Package: BUMHMM Version: 1.33.0 Command: /home/biocbuild/R/R/bin/R CMD INSTALL BUMHMM StartedAt: 2025-10-16 21:46:32 -0000 (Thu, 16 Oct 2025) EndedAt: 2025-10-16 21:47:04 -0000 (Thu, 16 Oct 2025) EllapsedTime: 32.5 seconds RetCode: 0 Status: OK