Package: BUMHMM Version: 1.33.0 Command: /home/biocbuild/R/R/bin/R CMD check --install=check:BUMHMM.install-out.txt --library=/home/biocbuild/R/R/site-library --no-vignettes --timings BUMHMM_1.33.0.tar.gz StartedAt: 2025-10-21 06:06:06 -0000 (Tue, 21 Oct 2025) EndedAt: 2025-10-21 06:13:36 -0000 (Tue, 21 Oct 2025) EllapsedTime: 450.3 seconds RetCode: 0 Status: OK CheckDir: BUMHMM.Rcheck Warnings: 0