Package: BUMHMM Version: 1.33.0 Command: rm -rf BUMHMM.buildbin-libdir && mkdir BUMHMM.buildbin-libdir && F:\biocbuild\bbs-3.22-bioc\R\bin\R.exe CMD INSTALL --build --library=BUMHMM.buildbin-libdir BUMHMM_1.33.0.tar.gz StartedAt: 2025-08-15 09:52:48 -0400 (Fri, 15 Aug 2025) EndedAt: 2025-08-15 09:53:25 -0400 (Fri, 15 Aug 2025) EllapsedTime: 37.0 seconds RetCode: 0 Status: OK PackageFile: BUMHMM_1.33.0.zip PackageFileSize: 746.5 KiB