Package: BUMHMM Version: 1.33.0 Command: /home/biocbuild/bbs-3.22-bioc/R/bin/R CMD check --install=check:BUMHMM.install-out.txt --library=/home/biocbuild/bbs-3.22-bioc/R/site-library --timings BUMHMM_1.33.0.tar.gz StartedAt: 2025-10-19 21:44:27 -0400 (Sun, 19 Oct 2025) EndedAt: 2025-10-19 21:47:34 -0400 (Sun, 19 Oct 2025) EllapsedTime: 187.1 seconds RetCode: 0 Status: OK CheckDir: BUMHMM.Rcheck Warnings: 0