Package: BUMHMM Version: 1.33.0 Command: /Library/Frameworks/R.framework/Resources/bin/R CMD INSTALL BUMHMM StartedAt: 2025-10-19 15:31:30 -0400 (Sun, 19 Oct 2025) EndedAt: 2025-10-19 15:32:03 -0400 (Sun, 19 Oct 2025) EllapsedTime: 32.9 seconds RetCode: 0 Status: OK