Package: BUMHMM Version: 1.33.0 Command: /Library/Frameworks/R.framework/Resources/bin/R CMD check --install=check:BUMHMM.install-out.txt --library=/Library/Frameworks/R.framework/Resources/library --no-vignettes --timings BUMHMM_1.33.0.tar.gz StartedAt: 2025-10-19 20:49:05 -0400 (Sun, 19 Oct 2025) EndedAt: 2025-10-19 20:52:45 -0400 (Sun, 19 Oct 2025) EllapsedTime: 220.5 seconds RetCode: 0 Status: OK CheckDir: BUMHMM.Rcheck Warnings: 0