Package: BUMHMM Version: 1.33.0 Command: /Library/Frameworks/R.framework/Resources/bin/R CMD build --keep-empty-dirs --no-resave-data BUMHMM StartedAt: 2025-10-19 16:20:06 -0400 (Sun, 19 Oct 2025) EndedAt: 2025-10-19 16:20:57 -0400 (Sun, 19 Oct 2025) EllapsedTime: 50.3 seconds RetCode: 0 Status: OK PackageFile: BUMHMM_1.33.0.tar.gz PackageFileSize: 710.6 KiB