Package: BSgenomeForge Version: 1.10.0 Command: /home/biocbuild/R/R/bin/R CMD check --install=check:BSgenomeForge.install-out.txt --library=/home/biocbuild/R/R/site-library --no-vignettes --timings BSgenomeForge_1.10.0.tar.gz StartedAt: 2025-11-21 08:35:26 -0000 (Fri, 21 Nov 2025) EndedAt: 2025-11-21 08:42:27 -0000 (Fri, 21 Nov 2025) EllapsedTime: 420.3 seconds RetCode: 0 Status: OK CheckDir: BSgenomeForge.Rcheck Warnings: 0