Package: BSgenomeForge Version: 1.10.0 Command: /home/biocbuild/R/R/bin/R CMD build --keep-empty-dirs --no-resave-data BSgenomeForge StartedAt: 2025-11-21 00:52:10 -0000 (Fri, 21 Nov 2025) EndedAt: 2025-11-21 00:53:30 -0000 (Fri, 21 Nov 2025) EllapsedTime: 80.0 seconds RetCode: 0 Status: OK PackageFile: BSgenomeForge_1.10.0.tar.gz PackageFileSize: 708.3 KiB