Package: BSgenomeForge Version: 1.9.1 Command: rm -rf BSgenomeForge.buildbin-libdir && mkdir BSgenomeForge.buildbin-libdir && F:\biocbuild\bbs-3.22-bioc\R\bin\R.exe CMD INSTALL --build --library=BSgenomeForge.buildbin-libdir BSgenomeForge_1.9.1.tar.gz StartedAt: 2025-08-15 09:52:30 -0400 (Fri, 15 Aug 2025) EndedAt: 2025-08-15 09:53:38 -0400 (Fri, 15 Aug 2025) EllapsedTime: 68.3 seconds RetCode: 0 Status: OK PackageFile: BSgenomeForge_1.9.1.zip PackageFileSize: 680.4 KiB