Package: BSgenomeForge Version: 1.9.2 Command: /home/biocbuild/bbs-3.22-bioc/R/bin/R CMD check --install=check:BSgenomeForge.install-out.txt --library=/home/biocbuild/bbs-3.22-bioc/R/site-library --timings BSgenomeForge_1.9.2.tar.gz StartedAt: 2025-10-05 21:51:38 -0400 (Sun, 05 Oct 2025) EndedAt: 2025-10-05 21:58:20 -0400 (Sun, 05 Oct 2025) EllapsedTime: 402.6 seconds RetCode: 0 Status: OK CheckDir: BSgenomeForge.Rcheck Warnings: 0