Package: BSgenome Version: 1.77.1 Command: chmod a+r BSgenome -R && F:\biocbuild\bbs-3.22-bioc\R\bin\R.exe CMD build --keep-empty-dirs --no-resave-data BSgenome StartedAt: 2025-08-14 18:52:02 -0400 (Thu, 14 Aug 2025) EndedAt: 2025-08-14 18:55:06 -0400 (Thu, 14 Aug 2025) EllapsedTime: 184.3 seconds RetCode: 0 Status: OK PackageFile: BSgenome_1.77.1.tar.gz PackageFileSize: 5.456 MiB