Package: BSgenome Version: 1.77.1 Command: rm -rf BSgenome.buildbin-libdir && mkdir BSgenome.buildbin-libdir && F:\biocbuild\bbs-3.22-bioc\R\bin\R.exe CMD INSTALL --build --library=BSgenome.buildbin-libdir BSgenome_1.77.1.tar.gz StartedAt: 2025-08-15 09:52:26 -0400 (Fri, 15 Aug 2025) EndedAt: 2025-08-15 09:54:18 -0400 (Fri, 15 Aug 2025) EllapsedTime: 111.7 seconds RetCode: 0 Status: OK PackageFile: BSgenome_1.77.1.zip PackageFileSize: 6.792 MiB