Package: BSgenome Version: 1.77.2 Command: /home/biocbuild/bbs-3.22-bioc/R/bin/R CMD build --keep-empty-dirs --no-resave-data --md5 BSgenome StartedAt: 2025-10-08 16:56:02 -0400 (Wed, 08 Oct 2025) EndedAt: 2025-10-08 16:57:36 -0400 (Wed, 08 Oct 2025) EllapsedTime: 94.1 seconds RetCode: 0 Status: OK PackageFile: BSgenome_1.77.2.tar.gz PackageFileSize: 5.631 MiB