Package: BREW3R.r Version: 1.5.0 Command: F:\biocbuild\bbs-3.22-bioc\R\bin\R.exe CMD check --no-multiarch --install=check:BREW3R.r.install-out.txt --library=F:\biocbuild\bbs-3.22-bioc\R\library --no-vignettes --timings BREW3R.r_1.5.0.tar.gz StartedAt: 2025-08-15 01:12:54 -0400 (Fri, 15 Aug 2025) EndedAt: 2025-08-15 01:15:07 -0400 (Fri, 15 Aug 2025) EllapsedTime: 133.0 seconds RetCode: 0 Status: OK CheckDir: BREW3R.r.Rcheck Warnings: 0