Package: BREW3R.r Version: 1.5.0 Command: chmod a+r BREW3R.r -R && F:\biocbuild\bbs-3.22-bioc\R\bin\R.exe CMD build --keep-empty-dirs --no-resave-data BREW3R.r StartedAt: 2025-08-14 18:51:38 -0400 (Thu, 14 Aug 2025) EndedAt: 2025-08-14 18:52:31 -0400 (Thu, 14 Aug 2025) EllapsedTime: 52.4 seconds RetCode: 0 Status: OK PackageFile: BREW3R.r_1.5.0.tar.gz PackageFileSize: 1.809 MiB