Package: BREW3R.r Version: 1.5.0 Command: /home/biocbuild/bbs-3.22-bioc/R/bin/R CMD build --keep-empty-dirs --no-resave-data --md5 BREW3R.r StartedAt: 2025-10-19 16:35:45 -0400 (Sun, 19 Oct 2025) EndedAt: 2025-10-19 16:36:20 -0400 (Sun, 19 Oct 2025) EllapsedTime: 35.0 seconds RetCode: 0 Status: OK PackageFile: BREW3R.r_1.5.0.tar.gz PackageFileSize: 1.888 MiB