Package: BRAIN Version: 1.55.0 Command: /home/biocbuild/R/R/bin/R CMD INSTALL BRAIN StartedAt: 2025-10-23 20:45:19 -0000 (Thu, 23 Oct 2025) EndedAt: 2025-10-23 20:45:32 -0000 (Thu, 23 Oct 2025) EllapsedTime: 13.2 seconds RetCode: 0 Status: OK