Package: BRAIN Version: 1.55.0 Command: /Library/Frameworks/R.framework/Resources/bin/R CMD check --install=check:BRAIN.install-out.txt --library=/Library/Frameworks/R.framework/Resources/library --no-vignettes --timings BRAIN_1.55.0.tar.gz StartedAt: 2025-10-28 19:51:41 -0400 (Tue, 28 Oct 2025) EndedAt: 2025-10-28 19:52:59 -0400 (Tue, 28 Oct 2025) EllapsedTime: 78.4 seconds RetCode: 0 Status: WARNINGS CheckDir: BRAIN.Rcheck Warnings: 2