Package: BPRMeth Version: 1.35.0 Command: /home/biocbuild/R/R/bin/R CMD INSTALL BPRMeth StartedAt: 2025-10-23 20:35:23 -0000 (Thu, 23 Oct 2025) EndedAt: 2025-10-23 20:36:04 -0000 (Thu, 23 Oct 2025) EllapsedTime: 40.5 seconds RetCode: 0 Status: OK