Package: BPRMeth Version: 1.35.0 Command: /home/biocbuild/R/R/bin/R CMD check --install=check:BPRMeth.install-out.txt --library=/home/biocbuild/R/R/site-library --no-vignettes --timings BPRMeth_1.35.0.tar.gz StartedAt: 2025-10-21 06:02:20 -0000 (Tue, 21 Oct 2025) EndedAt: 2025-10-21 06:06:06 -0000 (Tue, 21 Oct 2025) EllapsedTime: 225.4 seconds RetCode: 1 Status: ERROR CheckDir: BPRMeth.Rcheck Warnings: NA