Package: BPRMeth Version: 1.35.0 Command: /home/biocbuild/bbs-3.22-bioc/R/bin/R CMD INSTALL BPRMeth StartedAt: 2025-10-20 15:15:15 -0400 (Mon, 20 Oct 2025) EndedAt: 2025-10-20 15:15:42 -0400 (Mon, 20 Oct 2025) EllapsedTime: 27.5 seconds RetCode: 0 Status: OK