Package: BPRMeth Version: 1.35.0 Command: /Library/Frameworks/R.framework/Resources/bin/R CMD build --keep-empty-dirs --no-resave-data BPRMeth StartedAt: 2025-10-19 15:47:56 -0400 (Sun, 19 Oct 2025) EndedAt: 2025-10-19 15:48:30 -0400 (Sun, 19 Oct 2025) EllapsedTime: 34.4 seconds RetCode: 0 Status: OK PackageFile: BPRMeth_1.35.0.tar.gz PackageFileSize: 3.275 MiB