Package: BG2 Version: 1.9.0 Command: /home/biocbuild/R/R/bin/R CMD INSTALL BG2 StartedAt: 2025-10-16 21:19:41 -0000 (Thu, 16 Oct 2025) EndedAt: 2025-10-16 21:20:10 -0000 (Thu, 16 Oct 2025) EllapsedTime: 28.5 seconds RetCode: 0 Status: OK