Package: BG2 Version: 1.9.0 Command: /home/biocbuild/R/R/bin/R CMD check --install=check:BG2.install-out.txt --library=/home/biocbuild/R/R/site-library --no-vignettes --timings BG2_1.9.0.tar.gz StartedAt: 2025-10-21 04:50:57 -0000 (Tue, 21 Oct 2025) EndedAt: 2025-10-21 04:57:13 -0000 (Tue, 21 Oct 2025) EllapsedTime: 376.0 seconds RetCode: 0 Status: OK CheckDir: BG2.Rcheck Warnings: 0