Package: BG2 Version: 1.9.0 Command: F:\biocbuild\bbs-3.22-bioc\R\bin\R.exe CMD check --no-multiarch --install=check:BG2.install-out.txt --library=F:\biocbuild\bbs-3.22-bioc\R\library --no-vignettes --timings BG2_1.9.0.tar.gz StartedAt: 2025-08-15 00:51:00 -0400 (Fri, 15 Aug 2025) EndedAt: 2025-08-15 01:02:51 -0400 (Fri, 15 Aug 2025) EllapsedTime: 711.0 seconds RetCode: 0 Status: OK CheckDir: BG2.Rcheck Warnings: 0