Package: BG2 Version: 1.9.0 Command: rm -rf BG2.buildbin-libdir && mkdir BG2.buildbin-libdir && F:\biocbuild\bbs-3.22-bioc\R\bin\R.exe CMD INSTALL --build --library=BG2.buildbin-libdir BG2_1.9.0.tar.gz StartedAt: 2025-08-15 09:48:01 -0400 (Fri, 15 Aug 2025) EndedAt: 2025-08-15 09:48:06 -0400 (Fri, 15 Aug 2025) EllapsedTime: 5.4 seconds RetCode: 0 Status: OK PackageFile: BG2_1.9.0.zip PackageFileSize: 1.168 MiB