Package: BG2 Version: 1.9.0 Command: /home/biocbuild/bbs-3.22-bioc/R/bin/R CMD build --keep-empty-dirs --no-resave-data --md5 BG2 StartedAt: 2025-10-21 16:28:09 -0400 (Tue, 21 Oct 2025) EndedAt: 2025-10-21 16:37:33 -0400 (Tue, 21 Oct 2025) EllapsedTime: 564.5 seconds RetCode: 0 Status: OK PackageFile: BG2_1.9.0.tar.gz PackageFileSize: 1.131 MiB