Package: BG2 Version: 1.9.0 Command: rm -rf BG2.buildbin-libdir && mkdir BG2.buildbin-libdir && /Users/biocbuild/BBS/utils/build-universal.sh BG2_1.9.0.tar.gz /Library/Frameworks/R.framework/Resources/bin/R BG2.buildbin-libdir StartedAt: 2025-10-20 22:52:44 -0400 (Mon, 20 Oct 2025) EndedAt: 2025-10-20 22:52:46 -0400 (Mon, 20 Oct 2025) EllapsedTime: 2.0 seconds RetCode: 0 Status: OK PackageFile: BG2_1.9.0.tgz PackageFileSize: 1.166 MiB