Package: BEclear Version: 2.26.0 Command: /home/biocbuild/R/R/bin/R CMD INSTALL BEclear StartedAt: 2025-11-20 21:49:37 -0000 (Thu, 20 Nov 2025) EndedAt: 2025-11-20 21:49:57 -0000 (Thu, 20 Nov 2025) EllapsedTime: 20.0 seconds RetCode: 0 Status: OK