Package: BEclear Version: 2.26.0 Command: /home/biocbuild/R/R/bin/R CMD build --keep-empty-dirs --no-resave-data BEclear StartedAt: 2025-11-21 00:36:10 -0000 (Fri, 21 Nov 2025) EndedAt: 2025-11-21 00:36:42 -0000 (Fri, 21 Nov 2025) EllapsedTime: 32.0 seconds RetCode: 0 Status: OK PackageFile: BEclear_2.26.0.tar.gz PackageFileSize: 657.1 KiB