Package: BEclear Version: 2.25.0 Command: rm -rf BEclear.buildbin-libdir && mkdir BEclear.buildbin-libdir && F:\biocbuild\bbs-3.22-bioc\R\bin\R.exe CMD INSTALL --build --library=BEclear.buildbin-libdir BEclear_2.25.0.tar.gz StartedAt: 2025-08-15 09:47:29 -0400 (Fri, 15 Aug 2025) EndedAt: 2025-08-15 09:49:48 -0400 (Fri, 15 Aug 2025) EllapsedTime: 138.9 seconds RetCode: 0 Status: OK PackageFile: BEclear_2.25.0.zip PackageFileSize: 978.6 KiB