Package: BEclear Version: 2.25.0 Command: /Library/Frameworks/R.framework/Resources/bin/R CMD check --install=check:BEclear.install-out.txt --library=/Library/Frameworks/R.framework/Resources/library --no-vignettes --timings BEclear_2.25.0.tar.gz StartedAt: 2025-10-24 18:37:52 -0400 (Fri, 24 Oct 2025) EndedAt: 2025-10-24 18:38:19 -0400 (Fri, 24 Oct 2025) EllapsedTime: 27.3 seconds RetCode: 0 Status: OK CheckDir: BEclear.Rcheck Warnings: 0