Package: BEclear Version: 2.25.0 Command: rm -rf BEclear.buildbin-libdir && mkdir BEclear.buildbin-libdir && /Users/biocbuild/BBS/utils/build-universal.sh BEclear_2.25.0.tar.gz /Library/Frameworks/R.framework/Resources/bin/R BEclear.buildbin-libdir StartedAt: 2025-10-23 23:01:30 -0400 (Thu, 23 Oct 2025) EndedAt: 2025-10-23 23:01:36 -0400 (Thu, 23 Oct 2025) EllapsedTime: 6.2 seconds RetCode: 0 Status: OK PackageFile: BEclear_2.25.0.tgz PackageFileSize: 798.3 KiB