Package: BERT Version: 1.5.0 Command: F:\biocbuild\bbs-3.22-bioc\R\bin\R.exe CMD check --no-multiarch --install=check:BERT.install-out.txt --library=F:\biocbuild\bbs-3.22-bioc\R\library --no-vignettes --timings BERT_1.5.0.tar.gz StartedAt: 2025-08-15 00:49:42 -0400 (Fri, 15 Aug 2025) EndedAt: 2025-08-15 00:52:17 -0400 (Fri, 15 Aug 2025) EllapsedTime: 155.7 seconds RetCode: 0 Status: OK CheckDir: BERT.Rcheck Warnings: 0