Package: BERT Version: 1.5.0 Command: chmod a+r BERT -R && F:\biocbuild\bbs-3.22-bioc\R\bin\R.exe CMD build --keep-empty-dirs --no-resave-data BERT StartedAt: 2025-08-14 18:38:39 -0400 (Thu, 14 Aug 2025) EndedAt: 2025-08-14 18:40:07 -0400 (Thu, 14 Aug 2025) EllapsedTime: 88.1 seconds RetCode: 0 Status: OK PackageFile: BERT_1.5.0.tar.gz PackageFileSize: 258.6 KiB