Package: BERT Version: 1.6.0 Command: /home/biocbuild/bbs-3.22-bioc/R/bin/R CMD check --install=check:BERT.install-out.txt --library=/home/biocbuild/bbs-3.22-bioc/R/site-library --timings BERT_1.6.0.tar.gz StartedAt: 2025-11-14 21:32:34 -0500 (Fri, 14 Nov 2025) EndedAt: 2025-11-14 21:34:09 -0500 (Fri, 14 Nov 2025) EllapsedTime: 95.1 seconds RetCode: 0 Status: OK CheckDir: BERT.Rcheck Warnings: 0