Package: BERT Version: 1.6.0 Maintainer: Yannis Schumann MaintainerEmail: yannis.schumann at desy.de git_url: https://git.bioconductor.org/packages/BERT git_branch: RELEASE_3_22 git_last_commit: 49dbe48 git_last_commit_date: 2025-10-29 11:26:54 -0400 (Wed, 29 Oct 2025)