Package: BEAT Version: 1.47.0 Command: /home/biocbuild/bbs-3.22-bioc/R/bin/R CMD check --install=check:BEAT.install-out.txt --library=/home/biocbuild/bbs-3.22-bioc/R/site-library --timings BEAT_1.47.0.tar.gz StartedAt: 2025-10-19 21:23:31 -0400 (Sun, 19 Oct 2025) EndedAt: 2025-10-19 21:29:07 -0400 (Sun, 19 Oct 2025) EllapsedTime: 335.3 seconds RetCode: 0 Status: OK CheckDir: BEAT.Rcheck Warnings: 0