Package: BEAT Version: 1.47.0 Command: /home/biocbuild/bbs-3.22-bioc/R/bin/R CMD build --keep-empty-dirs --no-resave-data --md5 BEAT StartedAt: 2025-10-19 16:25:48 -0400 (Sun, 19 Oct 2025) EndedAt: 2025-10-19 16:27:10 -0400 (Sun, 19 Oct 2025) EllapsedTime: 82.0 seconds RetCode: 0 Status: OK PackageFile: BEAT_1.47.0.tar.gz PackageFileSize: 3.294 MiB