Package: BEAT Version: 1.47.0 Command: /Library/Frameworks/R.framework/Resources/bin/R CMD INSTALL BEAT StartedAt: 2025-10-19 15:44:31 -0400 (Sun, 19 Oct 2025) EndedAt: 2025-10-19 15:45:22 -0400 (Sun, 19 Oct 2025) EllapsedTime: 50.6 seconds RetCode: 0 Status: OK