Package: BEAT Version: 1.47.0 Command: rm -rf BEAT.buildbin-libdir && mkdir BEAT.buildbin-libdir && /Users/biocbuild/BBS/utils/build-universal.sh BEAT_1.47.0.tar.gz /Library/Frameworks/R.framework/Resources/bin/R BEAT.buildbin-libdir StartedAt: 2025-10-20 02:57:49 -0400 (Mon, 20 Oct 2025) EndedAt: 2025-10-20 02:58:43 -0400 (Mon, 20 Oct 2025) EllapsedTime: 54.0 seconds RetCode: 0 Status: OK PackageFile: BEAT_1.47.0.tgz PackageFileSize: 3.349 MiB