Package: BEAT Version: 1.47.0 Command: /Library/Frameworks/R.framework/Resources/bin/R CMD INSTALL BEAT StartedAt: 2025-10-08 15:32:24 -0400 (Wed, 08 Oct 2025) EndedAt: 2025-10-08 15:32:38 -0400 (Wed, 08 Oct 2025) EllapsedTime: 14.6 seconds RetCode: 0 Status: OK