Package: BCRANK Version: 1.72.0 Command: /home/biocbuild/R/R/bin/R CMD check --install=check:BCRANK.install-out.txt --library=/home/biocbuild/R/R/site-library --no-vignettes --timings BCRANK_1.72.0.tar.gz StartedAt: 2025-11-11 07:18:06 -0000 (Tue, 11 Nov 2025) EndedAt: 2025-11-11 07:20:36 -0000 (Tue, 11 Nov 2025) EllapsedTime: 150.1 seconds RetCode: 0 Status: OK CheckDir: BCRANK.Rcheck Warnings: 0