Package: BCRANK Version: 1.71.0 Command: /home/biocbuild/R/R/bin/R CMD build --keep-empty-dirs --no-resave-data BCRANK StartedAt: 2025-10-20 22:04:31 -0000 (Mon, 20 Oct 2025) EndedAt: 2025-10-20 22:04:54 -0000 (Mon, 20 Oct 2025) EllapsedTime: 23.0 seconds RetCode: 0 Status: OK PackageFile: BCRANK_1.71.0.tar.gz PackageFileSize: 2.893 MiB