Package: BCRANK Version: 1.72.0 Command: /home/biocbuild/bbs-3.22-bioc/R/bin/R CMD INSTALL BCRANK StartedAt: 2025-11-03 15:34:31 -0500 (Mon, 03 Nov 2025) EndedAt: 2025-11-03 15:34:41 -0500 (Mon, 03 Nov 2025) EllapsedTime: 10.2 seconds RetCode: 0 Status: OK