Package: BCRANK Version: 1.72.0 Command: /home/biocbuild/bbs-3.22-bioc/R/bin/R CMD build --keep-empty-dirs --no-resave-data --md5 BCRANK StartedAt: 2025-11-02 16:38:42 -0500 (Sun, 02 Nov 2025) EndedAt: 2025-11-02 16:39:02 -0500 (Sun, 02 Nov 2025) EllapsedTime: 20.0 seconds RetCode: 0 Status: OK PackageFile: BCRANK_1.72.0.tar.gz PackageFileSize: 2.903 MiB