Package: BASiCStan Version: 1.11.0 Command: /Library/Frameworks/R.framework/Resources/bin/R CMD check --install=check:BASiCStan.install-out.txt --library=/Library/Frameworks/R.framework/Resources/library --no-vignettes --timings BASiCStan_1.11.0.tar.gz StartedAt: 2025-10-01 18:27:52 -0400 (Wed, 01 Oct 2025) EndedAt: 2025-10-01 18:29:55 -0400 (Wed, 01 Oct 2025) EllapsedTime: 123.3 seconds RetCode: 0 Status: OK CheckDir: BASiCStan.Rcheck Warnings: 0