Package: BANDITS Version: 1.26.0 Command: rm -rf BANDITS.buildbin-libdir && mkdir BANDITS.buildbin-libdir && /Users/biocbuild/BBS/utils/build-universal.sh BANDITS_1.26.0.tar.gz /Library/Frameworks/R.framework/Resources/bin/R BANDITS.buildbin-libdir StartedAt: 2025-11-21 14:15:18 -0500 (Fri, 21 Nov 2025) EndedAt: 2025-11-21 14:17:17 -0500 (Fri, 21 Nov 2025) EllapsedTime: 119.3 seconds RetCode: 0 Status: OK PackageFile: BANDITS_1.26.0.tgz PackageFileSize: 1.595 MiB