Package: BANDITS Version: 1.26.0 Command: rm -rf BANDITS.buildbin-libdir && mkdir BANDITS.buildbin-libdir && /Users/biocbuild/BBS/utils/build-universal.sh BANDITS_1.26.0.tar.gz /Library/Frameworks/R.framework/Resources/bin/R BANDITS.buildbin-libdir StartedAt: 2025-11-23 07:15:10 -0500 (Sun, 23 Nov 2025) EndedAt: 2025-11-23 07:16:38 -0500 (Sun, 23 Nov 2025) EllapsedTime: 88.0 seconds RetCode: 0 Status: OK PackageFile: BANDITS_1.26.0.tgz PackageFileSize: 1.584 MiB